BEGIN:VCALENDAR
VERSION:2.0
PRODID:-//Texas Asian Musicians Alliance - ECPv6.15.20//NONSGML v1.0//EN
CALSCALE:GREGORIAN
METHOD:PUBLISH
X-WR-CALNAME:Texas Asian Musicians Alliance
X-ORIGINAL-URL:https://tama.ocypode.com
X-WR-CALDESC:Events for Texas Asian Musicians Alliance
REFRESH-INTERVAL;VALUE=DURATION:PT1H
X-Robots-Tag:noindex
X-PUBLISHED-TTL:PT1H
BEGIN:VTIMEZONE
TZID:America/New_York
BEGIN:DAYLIGHT
TZOFFSETFROM:-0500
TZOFFSETTO:-0400
TZNAME:EDT
DTSTART:20250309T070000
END:DAYLIGHT
BEGIN:STANDARD
TZOFFSETFROM:-0400
TZOFFSETTO:-0500
TZNAME:EST
DTSTART:20251102T060000
END:STANDARD
BEGIN:DAYLIGHT
TZOFFSETFROM:-0500
TZOFFSETTO:-0400
TZNAME:EDT
DTSTART:20260308T070000
END:DAYLIGHT
BEGIN:STANDARD
TZOFFSETFROM:-0400
TZOFFSETTO:-0500
TZNAME:EST
DTSTART:20261101T060000
END:STANDARD
BEGIN:DAYLIGHT
TZOFFSETFROM:-0500
TZOFFSETTO:-0400
TZNAME:EDT
DTSTART:20270314T070000
END:DAYLIGHT
BEGIN:STANDARD
TZOFFSETFROM:-0400
TZOFFSETTO:-0500
TZNAME:EST
DTSTART:20271107T060000
END:STANDARD
END:VTIMEZONE
BEGIN:VEVENT
DTSTART;TZID=America/New_York:20260425T200000
DTEND;TZID=America/New_York:20260425T233000
DTSTAMP:20260422T023418
CREATED:20260422T011317Z
LAST-MODIFIED:20260422T011653Z
UID:77-1777147200-1777159800@tama.ocypode.com
SUMMARY:2026 Asian Eats After Dark
DESCRIPTION:An evening of desserts\, drinks\, and entertainment—open to EVERYONE 21+!\n\nAsian Eats After Dark is a charity event celebrating Asian food and culture while giving back to the community.\n\nJoin us in partaking in delicious complimentary treats and live performances at Wanderlust Wine Co.
URL:https://tama.ocypode.com/event/2026-asian-eats-after-dark/
LOCATION:Wanderlust Wine Co\, 702 Shady Ln\, Austin\, TX\, United States
END:VEVENT
END:VCALENDAR